BEGIN:VCALENDAR
VERSION:2.0
PRODID:-//XilOo Danse - ECPv6.15.16//NONSGML v1.0//EN
CALSCALE:GREGORIAN
METHOD:PUBLISH
X-ORIGINAL-URL:https://xiloo-danse.com
X-WR-CALDESC:Évènements pour XilOo Danse
REFRESH-INTERVAL;VALUE=DURATION:PT1H
X-Robots-Tag:noindex
X-PUBLISHED-TTL:PT1H
BEGIN:VTIMEZONE
TZID:Europe/Zurich
BEGIN:DAYLIGHT
TZOFFSETFROM:+0100
TZOFFSETTO:+0200
TZNAME:CEST
DTSTART:20230326T010000
END:DAYLIGHT
BEGIN:STANDARD
TZOFFSETFROM:+0200
TZOFFSETTO:+0100
TZNAME:CET
DTSTART:20231029T010000
END:STANDARD
BEGIN:DAYLIGHT
TZOFFSETFROM:+0100
TZOFFSETTO:+0200
TZNAME:CEST
DTSTART:20240331T010000
END:DAYLIGHT
BEGIN:STANDARD
TZOFFSETFROM:+0200
TZOFFSETTO:+0100
TZNAME:CET
DTSTART:20241027T010000
END:STANDARD
BEGIN:DAYLIGHT
TZOFFSETFROM:+0100
TZOFFSETTO:+0200
TZNAME:CEST
DTSTART:20250330T010000
END:DAYLIGHT
BEGIN:STANDARD
TZOFFSETFROM:+0200
TZOFFSETTO:+0100
TZNAME:CET
DTSTART:20251026T010000
END:STANDARD
END:VTIMEZONE
BEGIN:VEVENT
DTSTART;TZID=Europe/Zurich:20240424T100000
DTEND;TZID=Europe/Zurich:20240426T160000
DTSTAMP:20260421T061350
CREATED:20240225T144438Z
LAST-MODIFIED:20240409T200922Z
UID:3380-1713952800-1714147200@xiloo-danse.com
SUMMARY:Stage de breakdance pour ado sur Ambert
DESCRIPTION:Stage de Breakdance pour ADO sur Ambert\n✅ Un Stage de breakdance pour ado sur Ambert se déroulera dans le cadre des semaines du breaking\, organisées par la fédération française de danse.  L’association XilOo Danse inclus ce stage dans un événement sur quatre jours la 2e semaine des vacances d’avril. Cet événement sera dédié tout particulièrement au breaking (ou breakdance)\, nouvelle discipline olympique aux jeux de Paris 2024. \n✅ Il sera composé de 2 parties: \n✔️ D’abord un stage de breakdance ado pour les 10 -15 ans sur 3 jours à la salle de danse d’Ambert  du 24 au 26 avril entre 10h30 et 16h.🔔 Attention : places limitées à 20 participants. ➡️Inscription obligatoire avant le début du stage dans la limite des places disponibles. (cf. formulaire d’inscription plus bas) \n✔️Ensuite un spectacle tout public et participatif le 4e jour devant l’église Saint Jean à Ambert (le samedi 27 avril).Cliquez ici pour en savoir plus sur le Breaking Show. \nA travers ce projet nous voulons transmettre des valeurs de partage\, de respect\, d’ouverture d’esprit et d’autonomie. \nBreaking Experience – Le stage en détail\nDurant ces trois jours les participants plongerons dans l’univers incroyable du hip-hop et plus particulièrement du breakdance (ou breaking) au travers 2 axes majeurs:➡️ Une partie pratique : apprentissage de mouvements de base avec leurs noms\, élaboration de routines\, travail sur la musicalité\, le style et l’interprétation.➡️ Une partie théorique : histoire du hip-hop avec un focus sur le breaking\, permettant d’aborder ses fondements\, ses valeurs et ses influences. Des vidéos et des supports visuels (livres\, magazines) seront proposés à cet effet. 🍽️ Pause déjeuner collective (XilOo Danse offre les boissons et des petites choses à grignoter\, merci d’amener votre repas ) 🏆 Enfin\, l’aboutissement de ce stage est la création d’un spectacle à la fois divertissant et pédagogique. Ce show racontera l’histoire du breaking à travers un échange théâtralisé entre un professeur et ses élèves. De la rue aux jeux olympiques : cette danse n’aura plus de secrète pour vous!📩Les parents sont invités à découvrir le résultat le dernier jour du stage autour de 15h.  \nBreaking Experience – Tarifs et inscriptions\nEn vous inscrivant avant le 10 avril\, vous pourrez bénéficier d’un tarif « early bird » avantageux ! Voici donc tous les tarifs : \n\nEarly bird : 67€ pour tout le stage avant le 10 avril. Après cette date\, le tarif normal sera de 87€. 🐦💰\nPour une inscription à la journée\, le tarif « early bird » sera de 27€ avant le 10 avril. Après cette date\, le tarif normal sera de 32€ par jour. 🌅\n\n Aussi n’hésitez pas à nous contacter pour toute question ou pour procéder à l’inscription de vos enfants. \nContact : 06.40.94.50.01 (Sandra) \nOn a hâte de vous retrouver pour cet événement de folie !!!🎶🤗 \nVoici le  formulaire  de pré-inscription: \nVeuillez activer JavaScript dans votre navigateur pour remplir ce formulaire.Nom *PrénomNomAge *E-mail *Téléphone :Nombre de jours :Stage Entier1 jour2 joursCommentaires et / ou questions:			\n			Envoyer\n   \nAu delà de Breaking Experience \n➡️Par ces actions XilOo Danse souhaite offrir une expérience immersive et enrichissante aux participants / spectateurs\, visant à démystifier le monde du breaking et du hip-hop tout en favorisant l’inclusion et l’égalité des chances. c’est pourquoi cette initiative vise en priorité à créer une opportunité spécifique et attrayante pour les jeunes. En mettant l’accent sur l’accessibilité\, l’inclusion et le soutien émotionnel\, ce stage offre aux adolescents\, filles ou garçons\, une opportunité unique de découvrir et de s’épanouir dans l’univers passionnant du breaking.
URL:https://xiloo-danse.com/evenements/stage-de-breakdance-pour-ado-sur-ambert/
LOCATION:Ambert\, Ambert
CATEGORIES:breakdance,stages
ATTACH;FMTTYPE=image/jpeg:https://xiloo-danse.com/wp-content/uploads/2024/02/Stage-Breaking-Experience.jpg
END:VEVENT
BEGIN:VEVENT
DTSTART;TZID=Europe/Zurich:20240427T160000
DTEND;TZID=Europe/Zurich:20240427T170000
DTSTAMP:20260421T061350
CREATED:20240225T224613Z
LAST-MODIFIED:20240226T181956Z
UID:3445-1714233600-1714237200@xiloo-danse.com
SUMMARY:Show de breakdance sur Ambert
DESCRIPTION:Show de breakdance sur Ambert\n✅ 🎉 Un Show de breakdance époustouflant débarque à Ambert le 27 Avril à 16h ! Alors ne manquez pas le Breaking Show\, spectacle GRATUIT\, ouvert à tous et interactif. Ça se passe sur le parvis de l’église Saint Jean\, un lieu emblématique qui va vibrer aux sons de la culture hip-hop ! 🕺 \n✅ Cet événement fait partie des semaines du breaking\, orchestrées par la fédération française de danse. XilOo Danse a le plaisir d’inclure ce show dans un événement exceptionnel sur quatre jours\, durant la 2e semaine des vacances d’avril. On célèbre le breaking (ou breakdance)\, désormais discipline olympique aux Jeux de Paris 2024\, comme il se doit ! 🏅 \n✅ Le Breaking Show sera le point d’orgue du stage de breaking pour les ados\, du 24 au 26 avril. Lors de la Breaking Experience nos jeunes danseurs vont mettre en pratique tout ce qu’ils auront appris lors de cette première partie du spectacle. 💥On vous attend nombreux pour les encourager💥 \n✅ En deuxième partie vous aurez droit à un spectacle à la fois dynamique et ludique\, vous plongeant au cœur de la danse de rue\, également connue sous le nom de danse hip-hop. C’est l’occasion parfaite de briser les clichés tout en passant un super moment! 🎉👟🔥
URL:https://xiloo-danse.com/evenements/show-de-breakdance-sur-ambert/
CATEGORIES:breakdance,Festival,spectacles
ATTACH;FMTTYPE=image/jpeg:https://xiloo-danse.com/wp-content/uploads/2024/02/Breaking-Show.jpg
END:VEVENT
END:VCALENDAR